BEGIN:VCALENDAR
VERSION:2.0
PRODID:-//Still &amp; Moving Center - ECPv6.6.4.2//NONSGML v1.0//EN
CALSCALE:GREGORIAN
METHOD:PUBLISH
X-WR-CALNAME:Still &amp; Moving Center
X-ORIGINAL-URL:https://stillandmovingcenter.com/ja/
X-WR-CALDESC:Events for Still &amp; Moving Center
REFRESH-INTERVAL;VALUE=DURATION:PT1H
X-Robots-Tag:noindex
X-PUBLISHED-TTL:PT1H
BEGIN:VTIMEZONE
TZID:Pacific/Honolulu
BEGIN:STANDARD
TZOFFSETFROM:-1000
TZOFFSETTO:-1000
TZNAME:HST
DTSTART:20260101T000000
END:STANDARD
END:VTIMEZONE
BEGIN:VEVENT
DTSTART;TZID=Pacific/Honolulu:20260404T113000
DTEND;TZID=Pacific/Honolulu:20260523T123000
DTSTAMP:20260421T065319
CREATED:20251218T194259Z
LAST-MODIFIED:20260327T015053Z
UID:33296-1775302200-1779539400@stillandmovingcenter.com
SUMMARY:Kids Aerial Hammock Dance 8 Week Series (Ages 7-12) with Olivia Trice. In-person
DESCRIPTION:In-personAges 7-12 \nApril 4 – May 23\, 2026Saturdays\, 11:30 – 12:30 pm \nOpportunity to perform May 30! \nSeries price: $250Drop in price: $35 \n			\n				Sign up for series\n			\n			\n				\n				\n				\n				\n			\n				\n				\n				\n				\n				\n				\n				\n				\n				\n				\n				Take flight in this dreamy aerial hammock dance class\, where you explore the art of movement through playful choreography\, imagination\, and body awareness. In a nurturing atmosphere\, you’ll learn to float\, spin\, and balance in silk hammocks while connecting with your breath\, curiosity\, and self-expression. \nThrough storytelling\, music\, and somatic movement principles\, students build creativity\, kinesthetic confidence\, and emotional regulation while developing their aerial skills. Each class offers a joyful opportunity to grow\, explore movement\, and connect with others in a supportive environment. By the end of the series\, you’ll shine alongside your peers in a joyful group performance — mark your calendar for May 30\, 2026! \n			\n			\n				\n				\n				\n				\n			\n				\n				\n				\n				\n				\n				\n				\n				\n				\n				\n				\n			\n			\n				\n				\n				\n				\n				\n				\n				\n				\n				\n				\n			\n			\n				\n				\n				\n				\n				\n				\n				\n				\n				\n				\n			\n			\n				\n				\n				\n				\n			\n				\n				\n			\n				\n				\n				\n				\n				\n				\n				\n				\n				\n				\n				\n				\n				\n				\n				\n				\n				\n				\n			\n			\n				\n				\n				\n				\n				\n				\n				\n				\n				\n				Olivia Trice\n			\n				\n				\n				\n				\n				Olivia Trice inspires her students to find their confidence and positive sense of self through movement! \nA filmmaker turned aerialist\, Olivia seamlessly blends her creative vision with her passion for movement. She developed her theatrical craft at the prestigious conservatory\, Duke Ellington School of the Arts\, which she now incorporates into her aerial dance practice\, crafting performances that are as emotive as they are physically compelling.  \nCertified with 150 hours of aerial teacher training and accredited by AIReal Yoga\, Olivia specializes in aerial dance and aerial yoga. Her favorite dance partner is her silk hammock which she describes as both a source of emotional solace and a tool for physical expression.  \nOlivia’s teaching philosophy centers on the relationship between the dancer and their apparatus\, encouraging students to explore their creativity\, develop musicality and convey powerful stories through choreography. \n			\n			\n				\n				\n				\n				\n			\n				\n				\n			\n				\n				\n				\n				\n				\n				\n				\n				\n				\n				\n				\n				\n				\n			\n				\n				\n				\n				\n				\n				\n				\n				\n				\n				Get the Still & Moving App\n			\n				APPLE APP STORE\n			\n				GOOGLE PLAY STORE
URL:https://stillandmovingcenter.com/ja/event/kids-aerial-hammock-dance-8-week-series-ages-7-12-with-olivia-trice/
LOCATION:グローバル\, ハワイ\, United States
ATTACH;FMTTYPE=image/jpeg:https://stillandmovingcenter.com/wp-content/uploads/2023/08/kids-aerial-diwali.jpg
END:VEVENT
BEGIN:VEVENT
DTSTART;TZID=Pacific/Honolulu:20260422T190000
DTEND;TZID=Pacific/Honolulu:20260610T200000
DTSTAMP:20260421T065319
CREATED:20260409T181723Z
LAST-MODIFIED:20260416T233102Z
UID:34071-1776884400-1781121600@stillandmovingcenter.com
SUMMARY:Contemporary Dance 8-week Committed Performance Series with Elizabeth Lentz-Hill. In-Person
DESCRIPTION:April 22 – June 10\, 2026Wednesday\, 7:00 – 8:00 PM \nPrice: $175 \nFREE for Malama\, Hulali & Annual Members20% off for unlimited members \nExplore creativity\, connection\, and movement in this inspiring 8-week Contemporary Dance Series with Elizabeth Lentz-Hill. Participants will work together toward a culminating performance at the vibrant Pan Pacific Festival\, taking place June 12–14. \nThis series will explore contemporary dance through the Hawaiian concept of kilo\, or deep observation. Through guided movement explorations and collaborative choreography\, dancers will practice noticing\, within their bodies\, each other\, and the surrounding environment\, allowing observation to inspire creativity and shape the dance. \nThe choreography will be created specifically for the people in the room\, highlighting each participant’s unique strengths\, movement qualities\, and range of abilities. Open to all levels\, this series offers a welcoming space to explore contemporary dance\, build confidence\, and experience the joy of creating and performing together in a supportive community. \n			\n				Sign Up Now!\n			\n			\n				\n				\n				\n				\n			\n				\n				\n				\n				\n				\n				\n				\n				\n				\n				\n				\n			\n				\n				\n				\n				\n				\n			\n			\n				\n				\n				\n				\n				\n				\n				\n				\n				\n				\n			\n				\n				\n				\n				\n				\n			\n			\n				\n				\n				\n				\n				\n				\n				\n				\n				\n				\n			\n			\n				\n				\n				\n				\n			\n				\n				\n			\n				\n				\n				\n				\n				\n				\n				\n				\n				\n				\n				\n				\n				\n				\n				\n				\n				\n				\n			\n			\n				\n				\n				\n				\n				\n				\n				\n				\n				\n				Elizabeth Lentz-Hill\n			\n				\n				\n				\n				\n				Elizabeth’s students love the joy\, humor and freedom of expression in her classes. Her classes inspire students to think about dance and life in new\, exciting ways. \nElizabeth grew up in Hawaiʻi and is happy to be home\, dancing in the place she loves\, after more than twenty years of experience performing\, teaching\, choreographing and promoting dance. She has toured France\, Brazil\, Mexico\, and the U.S. with Tennessee Dance Theatre\, Chicago Moving Company\, Lucky Plush Productions\, and Breakbone DanceCo.\, and performed works by Bill T. Jones\, Doug Elkins\, Twyla Tharp\, and Charles Weidman. \nPrior to returning to Hawaiʻi in 2018\, Elizabeth co-founded two dance companies and two regional dance festivals on the continent\, one to promote modern dance in Chicago and one for 7-12th grade dancers and their dance educators in Mississippi. She served as an Associate Professor of Dance at the University of Southern Mississippi (USM)\, where she taught ballet\, modern\, dance education\, anatomy\, choreography\, and dance theory classes. While at USM\, Elizabeth worked to bridge the Dance and Theatre Departments\, including co-creating a full-length devised theatre work with funding from the National Endowment for the Arts and serving as Interim Chair for both departments. She holds a BA in Religion with a concentration in Women’s Studies from Carleton College\, and an MFA in Dance from the University of Washington. \n“Ms. Lentz-Hill has effervescence\, an inner glow\, and an absolute belief in what she is presenting in the studio. There is an indefinable type of energy that leaps from her to her students. These qualities projected not only from Ms. Lentz-Hill but also from the students in the residency as they worked with her. The dancers left her sessions with knowledge of a dynamic energy\, knowing they had something of value to contribute to the community around them so much greater than an ability to be a technically sound dancer. To paraphrase a student in the residency – working with Ms. Lentz-Hill was not just a lesson in technique\, it was a lesson in life! “ – Mid-Pacific Institute \n			\n				Sign Up Now!
URL:https://stillandmovingcenter.com/ja/event/contemporary-dance-8-week-committed-performance-series-with-elizabeth-lentz-hill-in-person/
LOCATION:グローバル\, ハワイ\, United States
CATEGORIES:Dance,Women,World Culture
ATTACH;FMTTYPE=image/jpeg:https://stillandmovingcenter.com/wp-content/uploads/2026/04/DSC9009.jpg
END:VEVENT
BEGIN:VEVENT
DTSTART;TZID=Pacific/Honolulu:20260507T190000
DTEND;TZID=Pacific/Honolulu:20260611T200000
DTSTAMP:20260421T065319
CREATED:20260310T222621Z
LAST-MODIFIED:20260310T224942Z
UID:33844-1778180400-1781208000@stillandmovingcenter.com
SUMMARY:Bollywood Dance Performance 6-week Series with Nada McClellan and Sumoha Min. In-person
DESCRIPTION:In-person \n6 weeks seriesMay 7 – June 11\, 20267:00 – 8:00 PM \nPrice: $14520% discount for unlimited membersFree for Hulali & Malama members \n			\n				Sign Up Here\n			\n			\n				\n				\n				\n				\n			\n				\n				\n				\n				\n				\n				\n				\n				\n				\n				\n				\n\nStep into the colorful world of Bollywood dance in this joyful\, high-energy 6-week series led by the dynamic duo Nada and Sumoha! Participants will have the exciting opportunity to perform together at the Pan Pacific Festival\, taking place June 12-14. \nBollywood dance blends classical Indian dance\, folk traditions\, and modern styles into a colorful and expressive art form filled with joy\, rhythm\, and storytelling. In this series\, you’ll learn lively choreography inspired by iconic Bollywood films\, infused with energy\, grace\, and cultural flair. \nMore than just learning steps\, Bollywood dance is about community\, celebration\, and self-expression. Whether you’re new to dance or have previous experience\, you’ll find a welcoming space to connect\, move\, and express yourself while preparing for a vibrant community performance at the festival. \n\n\n			\n			\n				\n				\n				\n				\n			\n				\n				\n				\n				\n				\n				\n				\n				\n				\n				\n				\n			\n			\n				\n				\n				\n				\n				\n				\n				\n				\n				\n				\n			\n			\n				\n				\n				\n				\n			\n				\n				\n			\n				\n				\n				\n				\n				\n				\n				\n				\n				\n				\n				\n				\n				\n				\n				\n				\n				\n				\n			\n			\n				\n				\n				\n				\n				\n				\n				\n				\n				\n				Nada McClellan\n			\n				\n				\n				\n				\n				Nada loves sharing the pure joy of Indian dance with each of you.  \nNada McClellan fell in love with Bollywood and Indian folk dance in college. In 2012 she co-founded and directed a small Bollywood dance company\, Aaja Nachle Hawaii\, which performed at events and shows all over the state and offered regular community classes and workshops.  \nNada has studied with a number of well-known dance teachers\, danced on a competitive Bhangra team\, and has directed and performed in professional videos and on stages in Hong Kong\, Macau\, New York\, and Honolulu.  \n			\n			\n				\n				\n				\n				\n			\n				\n				\n				\n				\n				\n				\n				\n				\n				\n				\n				\n			\n			\n				\n				\n				\n				\n				\n				\n				\n				\n				\n				Sumoha Min\n			\n				\n				\n				\n				\n				Sumoha Min celebrates the vibrant dance traditions of her community by sharing it with you! \nSumoha Min grew up in Houston\, Texas\, learning Garba and Raas dancing at an early age. She later trained in the classical Indian dance forms of Bharatnatyam and Kuchipudi\, while expanding her repertoire with modern\, contemporary\, and West African dance styles during her time at New York University.  \nSumoha’s professional journey includes serving as a principal dancer and choreographer with NYU NASHA and PatelWorks Dance Co. in New York and Tattva Dance Co. in the San Francisco Bay Area. She also played a key role in founding the RAMA community\, a creative collective dedicated to empowering AAPI artists. \nAfter relocating to Hawaii in 2006\, Sumoha joined Aaja Nachle Hawaii\, where she helped produce three showcases and began teaching Bollywood dance to adults and youth. Now\, after a brief pause to focus on raising her two children (ages 3 and 5)\, she is thrilled to return to the dance community and share her passion once again through classes.
URL:https://stillandmovingcenter.com/ja/event/bollywood-dance-performance-6-week-series-with-nada-mcclellan-and-sumoha-min-in-person-2/
LOCATION:グローバル\, ハワイ\, United States
CATEGORIES:Dance,Healthy Living,Mindful Fitness,Women,World Culture
ATTACH;FMTTYPE=image/jpeg:https://stillandmovingcenter.com/wp-content/uploads/2026/03/BollywoodDance-11.jpg
END:VEVENT
END:VCALENDAR