BEGIN:VCALENDAR
VERSION:2.0
PRODID:-//Still &amp; Moving Center - ECPv6.6.4.2//NONSGML v1.0//EN
CALSCALE:GREGORIAN
METHOD:PUBLISH
X-WR-CALNAME:Still &amp; Moving Center
X-ORIGINAL-URL:https://stillandmovingcenter.com/ja/
X-WR-CALDESC:Events for Still &amp; Moving Center
REFRESH-INTERVAL;VALUE=DURATION:PT1H
X-Robots-Tag:noindex
X-PUBLISHED-TTL:PT1H
BEGIN:VTIMEZONE
TZID:Pacific/Honolulu
BEGIN:STANDARD
TZOFFSETFROM:-1000
TZOFFSETTO:-1000
TZNAME:HST
DTSTART:20260101T000000
END:STANDARD
END:VTIMEZONE
BEGIN:VEVENT
DTSTART;TZID=Pacific/Honolulu:20260628T080000
DTEND;TZID=Pacific/Honolulu:20260703T170000
DTSTAMP:20260422T235928
CREATED:20260217T195534Z
LAST-MODIFIED:20260409T185236Z
UID:33670-1782633600-1783098000@stillandmovingcenter.com
SUMMARY:Academy of Mindful Movement Instructor Level 1 Training. In-person & Live Online
DESCRIPTION:Academy of Mindful Movement Instructor Level 1 Training\n  \nIn-person & Live Online (for off island attendees only)at Still & Moving Center1024 Queen St\, Honolulu\, HI 96814 \nJune 28 – July 3\, 20268:00 am – 5:00 pm \n			\n				\n				\n				\n				\n				Join us for a transformational 1-week training amidst the natural beauty of Honolulu\, Hawaii\, designed exclusively for experienced instructors and coaches. At the Academy of Mindful Movement\, you’ll gain certified techniques to help students move with greater awareness\, safety\, and joy. Elevate your teaching\, integrate mindfulness into every class\, and inspire your students to become confident\, conscious movers. \n			\n			\n				\n				\n				\n				\n			\n				\n				\n				\n				\n				\n				\n				\n				\n				\n				\n				Training at the Academy\n			\n				\n				\n				\n				\n				Learn techniques to uplevel your coaching & teaching expertise. Training at the Academy accelerates “soft skills” for personal trainers to more quickly mature their client appeal and marketability. Train your movers to make more conscious movement choices. Mindfulness is where it’s at today in the world of movement. \n✔ NASM & AFAA certified CEUs✔ For experienced Instructors and Coaches only \nLearn to teach eyes-open Mindfulness in Motion \n			\n			\n				\n				\n				\n				\n			\n				\n				\n				\n				\n				\n				\n				\n				\n				\n				\n				\n			\n				\n				\n				\n				\n				Welcome Package \n			\n				\n				\n				\n				\n				$995\n			\n				\n				\n				\n				\n				• In-person training + certification• CEUs: 1.9 NASM\, 15 AFAA\, 4.5 IACET• 1 free class at Still & Moving Center \n			\n				Welcome Package SIGN UP\n			\n			\n				\n				\n				\n				\n				\n				\n				\n				\n				\n				\n			\n				\n				\n				\n				\n				Signature Package\n			\n				\n				\n				\n				\n				$1295\n			\n				\n				\n				\n				\n				• In-person training + certification• CEUs: 1.9 NASM\, 15 AFAA\, 4.5 IACET• Unlimited classes at Still & Moving Center• Daily vegetarian lunch • One 60-minute Massage \n			\n				Signature Package SIGN UP\n			\n			\n				\n				\n				\n				\n			\n				\n				\n				\n				\n				\n				\n				\n				\n				\n				\n				\n			\n				\n				\n				\n				\n				Live Online \n			\n				\n				\n				\n				\n				*for off island attendees only\n			\n				\n				\n				\n				\n				$795\n			\n				\n				\n				\n				\n				• Live Online training + certification• CEUs: 1.9 NASM\, 15 AFAA\, 4.5 IACET• 1 free class at Still & Moving Center \n			\n				Live Online SIGN UP\n			\n			\n				\n				\n				\n				\n			\n				\n				\n				\n				\n				\n				\n				\n				\n				\n				\n				Video Testimonial\n			\n				\n				\n				\n				\n				\n				\n			\n			\n				\n				\n				\n				\n			\n				\n				\n			\n				\n				\n				\n				\n				\n				\n				\n				\n				\n				\n				\n				\n				\n				\n				\n				\n				\n				Take a peek at your training in motion.\n			\n				\n					\n					\n					\n				\n				\n					\n					\n					\n				\n				\n					\n					\n					\n				\n				\n					\n					\n					\n				\n				\n					\n					\n					\n				\n				\n					\n					\n					\n				\n				\n					\n					\n					\n				\n				\n				Learn More
URL:https://stillandmovingcenter.com/ja/event/academy-of-mindful-movement-instructor-level-1-training-in-person-live-online/
LOCATION:グローバル\, ハワイ\, United States
CATEGORIES:Coaching,Healthy Living,Mindful Movement Teacher Trainings,Teacher Trainings,Training Events,TRAININGS
ATTACH;FMTTYPE=image/jpeg:https://stillandmovingcenter.com/wp-content/uploads/2026/02/academy-graduates.jpg
END:VEVENT
END:VCALENDAR