BEGIN:VCALENDAR
VERSION:2.0
PRODID:-//Still &amp; Moving Center - ECPv6.6.4.2//NONSGML v1.0//EN
CALSCALE:GREGORIAN
METHOD:PUBLISH
X-WR-CALNAME:Still &amp; Moving Center
X-ORIGINAL-URL:https://stillandmovingcenter.com/ja/
X-WR-CALDESC:Events for Still &amp; Moving Center
REFRESH-INTERVAL;VALUE=DURATION:PT1H
X-Robots-Tag:noindex
X-PUBLISHED-TTL:PT1H
BEGIN:VTIMEZONE
TZID:Pacific/Honolulu
BEGIN:STANDARD
TZOFFSETFROM:-1000
TZOFFSETTO:-1000
TZNAME:HST
DTSTART:20250101T000000
END:STANDARD
END:VTIMEZONE
BEGIN:VEVENT
DTSTART;TZID=Pacific/Honolulu:20250727T133000
DTEND;TZID=Pacific/Honolulu:20250727T150000
DTSTAMP:20260423T032010
CREATED:20250621T212841Z
LAST-MODIFIED:20250623T204736Z
UID:32045-1753623000-1753628400@stillandmovingcenter.com
SUMMARY:Holistic Health Workshop with Dr. Diana Joy Ostroff • In-person
DESCRIPTION:In-personSunday\, July 27\, 20251:30 – 3:00 pm HST \n$49 for non-members20% Discount Unlimited MembersFree for Hulali\, Malama & Annual Members \n			\n				Sign Up Now!\n			\n				\n				\n				\n				\n				\n			\n			\n				\n				\n				\n				\n			\n				\n				\n				\n				\n				\n				\n				\n				\n				\n				\n				Discover how to awaken your body’s natural healing power through an integrative mind-body approach. \nIn this rejuvenating 90-minute workshop\, Dr. Diana Joy Ostroff will guide you through transformative practices and teachings designed to help you restore balance\, vitality\, and joy from the inside out. \nTopics include: \nThe Gut-Brain Connection: Heal from the inside outBrain & Memory Regeneration for Longevity & Mental ClarityMind-Body Medicine: Align your thoughts\, emotions & healthMeditation for Emotional Well-being & Stress ReleaseGentle Yoga for Arthritis Prevention & Joint VitalitySimple Daily Practices to Feel Centered\, Relaxed & Energized \nWho is this for? \nAnyone seeking natural\, sustainable ways to support emotional balance\, brain health\, vitality\, and inner peace—no experience necessary. \n			\n			\n				\n				\n				\n				\n			\n				\n				\n			\n				\n				\n				\n				\n				\n				\n				\n				\n				\n				\n				\n				\n				\n				\n				\n				\n				\n				\n			\n			\n				\n				\n				\n				\n				\n				\n				\n				\n				\n				Dr. Diana Joy Ostroff\n			\n				\n				\n				\n				\n				Board Certified Naturopathic Physician \nDr. Diana Joy Ostroff\, a dedicated and compassionate Naturopathic Doctor and Traditional Chinese Medicine practitioner\, who has been enriching lives with her holistic approach to health and wellness since 1989. Based in Oahu\, Dr. Ostroff is not only a healer but also a survivor and a relentless seeker of knowledge\, whose personal journey and professional expertise intertwine to create a unique and deeply empathetic approach to medicine. \nWith an expansive educational background\, including a Doctorate in Naturopathic Medicine from the National College of Naturopathic Medicine\, a Doctorate from the Oriental Medical Institute of Hawaii\, and Bachelor’s degrees in Psychology and Physical Education from the University of Oregon and the University of Delaware\, Dr. Ostroff is a well-rounded expert in her field. Her commitment to lifelong learning is further evidenced by her status as a Diplomate of the National Commission for the Certification of Acupuncture and her active membership in several prestigious medical associations. \nIn 1989\, Dr. Ostroff founded the Center for Natural Healing Hawaii\, a sanctuary for those seeking a holistic approach to health. Her practice focuses on a wide range of areas\, including optimal health for the mind\, body\, and soul\, holistic pediatric care\, emotional well-being\, nutritional health\, and hormonal balance. She is also the author of the “Wisdom of Well-Being Book series\,” which includes titles like “Your Health is in Your Hands” and “The Joy of Eating – for Kids and their Moms.” \n			\n			\n				\n				\n				\n				\n			\n				\n				\n			\n				\n				\n				\n				\n				\n				\n				\n				\n				\n				\n				\n				\n				\n			\n				\n				\n				\n				\n				\n				\n				\n				\n				\n				Get the Still & Moving App\n			\n				APPLE APP STORE\n			\n				GOOGLE PLAY STORE
URL:https://stillandmovingcenter.com/ja/event/holistic-health-workshop-with-dr-diana-joy-ostroff-in-person/
LOCATION:グローバル\, ハワイ\, United States
CATEGORIES:Dance,Healthy Living,Mindful Fitness
ATTACH;FMTTYPE=image/png:https://stillandmovingcenter.com/wp-content/uploads/2025/06/Screenshot-2025-06-21-at-11.19.10 AM.png
END:VEVENT
END:VCALENDAR