BEGIN:VCALENDAR
VERSION:2.0
PRODID:-//Still &amp; Moving Center - ECPv6.6.4.2//NONSGML v1.0//EN
CALSCALE:GREGORIAN
METHOD:PUBLISH
X-ORIGINAL-URL:https://stillandmovingcenter.com/ja/
X-WR-CALDESC:Events for Still &amp; Moving Center
REFRESH-INTERVAL;VALUE=DURATION:PT1H
X-Robots-Tag:noindex
X-PUBLISHED-TTL:PT1H
BEGIN:VTIMEZONE
TZID:Pacific/Honolulu
BEGIN:STANDARD
TZOFFSETFROM:-1000
TZOFFSETTO:-1000
TZNAME:HST
DTSTART:20250101T000000
END:STANDARD
END:VTIMEZONE
BEGIN:VEVENT
DTSTART;TZID=Pacific/Honolulu:20250308T104500
DTEND;TZID=Pacific/Honolulu:20250329T114500
DTSTAMP:20260421T011138
CREATED:20250220T230302Z
LAST-MODIFIED:20250220T231850Z
UID:31315-1741430700-1743248700@stillandmovingcenter.com
SUMMARY:Brazilian Samba series with Diandra Jones & Hollow Moon. In-person & Online
DESCRIPTION:In-person & Online \nSaturdays 10:45 – 11:45 amMarch 8\,15\, 22\, 29\, 2025 \nIn-person: $95 for the series / $30 for drop insOnline: $65 for the series / $20 for drop-ins \n20% discount for Unlimited MembersFree for Hulali and Malama Members \n			\n			\n				\n				\n				\n				\n			\n				\n				\n				\n				\n				\n				\n				Sign up for in-person\n			\n			\n				\n				\n				\n				\n				\n				Sign up for online\n			\n			\n				\n				\n				\n				\n			\n				\n				\n				\n				\n				\n				\n				\n				\n				\n				\n				\n\nJourney to Rio de Janeiro at the time of Brazilian Carnival to learn the lively dance of Samba! Prepare for a workout as you experience the fast footwork\, elegant port-de-bras (arm moves) and spirited choreography of Samba with Diandra. Enjoy the live drumming provided by Hollow\, which is vital to this authentic\, poly-rhythmic Brazilian dance! \n\n\n			\n			\n				\n				\n				\n				\n			\n				\n				\n				\n				\n				\n				\n				\n				\n				\n				\n				Diandra dancing at our 2024 Diwali performance\n			\n			\n				\n				\n				\n				\n			\n				\n				\n				\n				\n				\n				\n				\n				\n				\n				\n				\n				\n					\n					\n				\n				\n			\n			\n				\n				\n				\n				\n			\n				\n				\n			\n				\n				\n				\n				\n				\n				\n				\n				\n				\n				\n				\n				\n				\n				\n				\n				\n				\n				\n			\n			\n				\n				\n				\n				\n				\n				\n				\n				\n				\n				Diandra Jones\n			\n				\n				\n				\n				\n				Diandra’s global dance classes will leave you feeling as if you’ve traveled the entire world through dance! \nDiandra traveled North America and Europe for five years with Trinity Irish Dance Company after earning her title as a champion-level\, world-ranked competitive Irish Step dancer. She has danced on Broadway\, with the Joyce Theatre\, and in Hollywood films.   \nNow\, Diandra dedicates her life to studying cultural dances ranging from West African and Bhangra\, to Brazilian Samba\, Chicago House and Argentine Zapateado. She spent ten years dancing in West Africa and the Caribbean\, where she trained with Sankofa Center for African Dance and Culture\, choreographed for Carnival troupes and Soca artists\, produced “Long Legs Arts Fest\,” and presented her publication “The Cultural Dancer: An Awary Ambassador” at the International Dance Conference in Barbados.  \nDiandra also shares her passion for mindful movement as a certified Pilates and 500 hour trained Yoga teacher\, and as a climate change educator—having survived the eye of historic Hurricane Irma in 2017\, on which she published a memoir “Irma Was Here.” \n			\n			\n				\n				\n				\n				\n			\n				\n				\n				\n				\n				\n				\n				\n				\n				\n				\n				\n			\n			\n				\n				\n				\n				\n				\n				\n				\n				\n				\n				Hollow Moon\n			\n				\n				\n				\n				\n				A versatile and dynamic musician\, Hollow Moon moves forward with an extensive background in global music traditions\, including West African\, Polynesian\, and Balinese genres. With a seamless blend of tradition and innovation\, Hollow’s work radiates rhythm\, spirit\, and joy\, captivating audiences wherever she goes. \nHer journey began with ecstatic dance events\, leading to performances in Afro-fitness classes\, spiritual retreats\, ceremonies\, and sound baths. Hollow’s talents have graced a wide range of events\, from weddings and graduations to corporate gatherings with clients like Microsoft\, The Hub Coworking\, and Bishop’s Museum\, creating vibrant and memorable experiences for all. \nAs a student of the Samoan Fireknife School in Oahu under Mangu Mu\, and a musician with Kalena’s Polynesian Ohana  Production Group\, Hollow brings a unique blend of musicality and performance artistry to every stage. She is also a skilled martial artist\, studying disciplines such as Filipino Martial Arts\, Silat\, Capoeira\, and boxing\, adding a powerful dimension to her creative repertoire. \nWith a background in filmmaking\, scriptwriting\, and editing developed during her time at the Art Institute of Atlanta\, Hollow incorporates narrative depth into her artistry. She intertwines her passion for music and storytelling with her role as a global traveler and community builder\, connecting with cultures worldwide to inspire and create.  \n			\n			\n				\n				\n				\n				\n			\n				\n				\n			\n				\n				\n				\n				\n				\n				\n				\n				\n				\n				\n				\n				\n				\n			\n				\n				\n				\n				\n				\n				\n				\n				\n				\n				Get the Still & Moving App\n			\n				APPLE APP STORE\n			\n				GOOGLE PLAY STORE
URL:https://stillandmovingcenter.com/ja/event/brazilian-samba-series-with-diandra-jones-hollow-moon-in-person-online/
LOCATION:グローバル\, ハワイ\, United States
CATEGORIES:Dance,Healthy Living,Mindful Fitness,Women,World Culture
ATTACH;FMTTYPE=image/jpeg:https://stillandmovingcenter.com/wp-content/uploads/2024/12/unnamed-5.jpg
END:VEVENT
END:VCALENDAR