BEGIN:VCALENDAR
VERSION:2.0
PRODID:-//Still &amp; Moving Center - ECPv6.6.4.2//NONSGML v1.0//EN
CALSCALE:GREGORIAN
METHOD:PUBLISH
X-ORIGINAL-URL:https://stillandmovingcenter.com/ja/
X-WR-CALDESC:Events for Still &amp; Moving Center
REFRESH-INTERVAL;VALUE=DURATION:PT1H
X-Robots-Tag:noindex
X-PUBLISHED-TTL:PT1H
BEGIN:VTIMEZONE
TZID:Pacific/Honolulu
BEGIN:STANDARD
TZOFFSETFROM:-1000
TZOFFSETTO:-1000
TZNAME:HST
DTSTART:20250101T000000
END:STANDARD
END:VTIMEZONE
BEGIN:VEVENT
DTSTART;TZID=Pacific/Honolulu:20250425T173500
DTEND;TZID=Pacific/Honolulu:20250613T183500
DTSTAMP:20260420T044537
CREATED:20250410T224855Z
LAST-MODIFIED:20250424T195430Z
UID:31543-1745602500-1749839700@stillandmovingcenter.com
SUMMARY:MADEIRA Dance Committed Performance Class: for Pan-Pacific Festival with Jessica Eirado Enes
DESCRIPTION:  \n \n8 week Committed Performance Class \nApril 25 – June 13\, 2025Friday\, 5:35-6:35 pm \nMembers can sign up FREE\, as long as they commit to attending the full 8 weeks \nNon-Members: $195 for 8 Committed Performance Classes April 25-June 13\, 5:35-6:36 pm \nContemporary Technique class is free for all MADEIRA participants \n \n			\n				Enroll in the Classes\n			\n				\n				\n				\n				\n				\n			\n			\n				\n				\n				\n				\n			\n				\n				\n				\n				\n				\n				\n				\n				\n				\n				\n				Performance date(s): weekend of June 14 or 15\, 2025 \n			\n			\n				\n				\n				\n				\n			\n				\n				\n				\n				\n				\n				\n				\n				\n				\n				\n				MADEIRA – A Call to Move\, Remind\, and Connect Across Oceans \nStep into a story that began long before you—and continues through you. \nMADEIRA\, a brand-new piece choreographed by Jessica Eirado Enes\, invites you to embody a powerful journey of movement\, memory\, and migration. Created especially for Still & Moving Center students to perform at the Pan Pacific Festival 2025 in Honolulu this June\, this piece draws on the deep cultural connections between the Portuguese island of Madeira and the Hawaiian Islands—linked across time and tide through music\, migration\, and the legacy of the ukulele from Portugal. \nWhether you’re a seasoned dancer or just starting out\, your movement\, your story\, and your presence are what will bring this piece to life. You’ll explore Portuguese folk rhythms\, the power of the elements of nature\, and the legacy of cultural exchange—all through a beautifully choreographed contemporary lens. \nCome dance with us. Be part of something meaningful. Sign up today to carry the story forward. \nCongratulations to our 2 Scholarship winners! \n			\n			\n				\n				\n				\n				\n			\n				\n				\n			\n				\n				\n				\n				\n				\n				\n				\n				\n				\n				\n				\n				\n				\n				\n				\n				\n				\n				Jessica’s showreel of three performances: https://vimeo.com/381404621/767a3e4cd2 \nJessica’s latest professional dance creation: IVY – My Homeless Lover. https://vimeo.com/763607040/b1b9447443 \n			\n			\n				\n				\n				\n				\n			\n				\n				\n			\n				\n				\n				\n				\n				\n				\n				\n				\n				\n				\n				\n				\n				\n				\n				\n				\n				\n				\n			\n			\n				\n				\n				\n				\n				\n				\n				\n				\n				\n				Jessica Eirado Enes\n			\n				\n				\n				\n				\n				Jessica Eirado Enes is an Italian-Portuguese Contemporary Dance performer and choreographer whose career has danced across continents\, from Europe to the United States as far as Hawai’i\, for over a decade. Her path has led her to collaborate with companies such as Not Standing/Alexander Vantournhout (Belgium)\, Black Label Movement (US)\, and My Homeless Lover (Italy/Belgium)\, which she co-directs with Edward Oroyan. \nIn Jessica Eirado Enes’ newest work\, MADEIRA\, created specifically for the students of Still & Moving Center to perform at Pan Pacific Festival 2025\, Jessica and her dancers explore the compelling relationship between the volcanic island of Madeira in Portugal and the Hawaiian Islands – distant in geography\, yet mirroring each other in spirit. Rugged cliffs\, fertile soil\, the whisper of the wind through lush canopies\, and the ever-present song of the waves bind them across oceans. But their bond deepens through a shared story – one of migration\, music\, and quiet revolution. \nOn August 23\, 1879\, aboard the English ship Ravenscrag\, three Portuguese emigrants—Augusto Dias\, Manuel Nunes\, and José do Espírito Santo – arrived in Honolulu Harbor with a three-year contract to work on the plantations. Cabinetmakers and musicians\, they carried with them a small stringed instrument known as the machete and the skills to play and craft it. They could not have foreseen the legacy they were about to seed: a four-stringed wonder that would leap into the heart of Hawaiian culture and echo far beyond\, becoming what we now call the ukulele—the “jumping flea”. \nIn MADEIRA\, eight dancers move to early ukulele music\, channeling the raw energy of the elements—earth\, water\, wind\, and fire—that define both island landscapes and their ancient relationships to nature. Jessica’s choreography draws from the pulse of Portuguese folk dances\, stitched together with memories of her avós (grandparents) spinning and stomping at village festivals in the mountains north of Braga\, Portugal.  \nIt is said the machete first came from Braga as the braguinha to Madeira\, Portugal\, and onto Hawai’i. So one of the Hawaiian ukulele’s earliest ancestors came from Braga. How apt that Jessica – a fairly newcomer to Hawai’i\, has predecessors from Braga\, Portugal – just as the ukulele has! \nThis piece is a journey—through memory\, myth\, and migration. A crossing of oceans and eras. A dance of hands that built\, strings that sang\, and islands that\, though far apart\, hum in harmony. \nGet to know a bit more about Jessica by watching a snippet of her dancing in these videos.  \n  \n			\n			\n				\n				\n				\n				\n			\n				\n				\n			\n				\n				\n				\n				\n				\n				\n				\n				\n				\n				\n				\n				\n				\n			\n				\n				\n				\n				\n				\n				\n				\n				\n				\n				Get the Still & Moving App\n			\n				APPLE APP STORE\n			\n				GOOGLE PLAY STORE
URL:https://stillandmovingcenter.com/ja/event/madeira-dance-committed-performance-class-for-pan-pacific-festival-with-jessica-eirado-enes/
LOCATION:グローバル\, ハワイ\, United States
CATEGORIES:Dance,Women
ATTACH;FMTTYPE=image/jpeg:https://stillandmovingcenter.com/wp-content/uploads/2025/04/jessica-performance-2.jpg
END:VEVENT
BEGIN:VEVENT
DTSTART;TZID=Pacific/Honolulu:20250502T184500
DTEND;TZID=Pacific/Honolulu:20250613T194500
DTSTAMP:20260420T044537
CREATED:20250417T195912Z
LAST-MODIFIED:20250524T190528Z
UID:31599-1746211500-1749843900@stillandmovingcenter.com
SUMMARY:Performance Salsa Rueda 7 Weeks Series with Gordon Walker. In-person
DESCRIPTION:In-person7 weeks series \nMay 2 – June 13\, 2025Fridays\, 6:45 – 7:45 pm \nPrice: $145 \n			\n				Sign Up Here\n			\n			\n				\n				\n				\n				\n			\n				\n				\n				\n				\n				\n				\n				\n				\n				\n				\n				\n\nStep into the rhythm and shine on stage with our Salsa Rueda Performance Series! \nIf you love dancing joyfully—especially with others—this series is for you. Salsa Rueda invites you into a lively\, high-energy dance experience where multiple couples form a circle (or “rueda\,” meaning wheel) and follow the calls of a leader who guides the group through exciting combinations. You’ll find yourself switching partners\, dancing in sync with the group\, and riding the infectious wave of Cuban rhythm. \nSalsa Rueda de Casino was born in Cuba in the 1950s and brings together the dynamic energy of Latin music with the social structure of group dances like square or contra dancing. It also incorporates rich elements from other Cuban styles such as Guaguancó\, Rumba\, and Yuka. \nThroughout this performance series\, you’ll dive into the history\, rhythm\, and movement of Salsa Rueda. You’ll learn key calls and combinations\, hand signals\, musical timing\, and the joy of dancing in unison with a group. \nMost importantly\, this is your chance to perform! By joining this series\, you’ll have the opportunity to showcase what you’ve learned at the Pan Pacific Festival during the weekend of June 14-15. Step into the spotlight\, connect with community\, and celebrate the joy of dance. \n\n\n			\n			\n				\n				\n				\n				\n			\n				\n				\n			\n				\n				\n				\n				\n				\n				\n				\n				\n				\n				\n				\n				\n				\n				\n				\n				\n				\n				\n			\n			\n				\n				\n				\n				\n				\n				\n				\n				\n				\n				Gordon Walker - Rueda 808\n			\n				\n				\n				\n				\n				Beware! Gordon Walker’s enthusiasm for dance is absolutely infectious. So watch out if you don’t want to catch it. And come dance with him if you do! \nBorn in Jamaica\, Gordon can’t recall a time when he wasn’t dancing! His salsa journey began in 2014. Prior to salsa\, Gordon dedicated 12 years to the art of capoeira\, where he honed his sense of movement and physical expression. \nIn 2019\, Gordon found himself in the role of a salsa instructor\, a twist that has allowed him to share his insights and passion for dance. He has taught Salsa Casino and Rueda de Casino at the University of Hawaii at Manoa through the Salsa Dancing at UHM RIO since 2019. Gordon is also a graduate student in Oceanography at the university. \nRueda808 is Gordon’s Cuban salsa performance dance group based in Honolulu. They specialize in Salsa Rueda de Casino. This group takes pride in the cultural diversity\, ethnicities\, and backgrounds of its members\, who include students\, professors\, healthcare professionals\, and other community members. They love dancing in a wheel formation\, getting to know the whole group. Rueda808 dancers are passionate about dancing with aloha a dance form that comes from another island culture! \n			\n			\n				\n				\n				\n				\n			\n				\n				\n			\n				\n				\n				\n				\n				\n				\n				\n				\n				\n				\n				\n				\n				\n			\n				\n				\n				\n				\n				\n				\n				\n				\n				\n				Get the Still & Moving App\n			\n				APPLE APP STORE\n			\n				GOOGLE PLAY STORE
URL:https://stillandmovingcenter.com/ja/event/committed-performance-salsa-rueda-7-weeks-series-with-rueda-808-in-person/
LOCATION:グローバル\, ハワイ\, United States
CATEGORIES:Dance,Healthy Living,Mindful Fitness,Women,World Culture
ATTACH;FMTTYPE=image/png:https://stillandmovingcenter.com/wp-content/uploads/2025/03/Screenshot-2025-03-27-at-2.10.18 PM.png
END:VEVENT
BEGIN:VEVENT
DTSTART;TZID=Pacific/Honolulu:20250530T154500
DTEND;TZID=Pacific/Honolulu:20250613T161500
DTSTAMP:20260420T044537
CREATED:20250519T195431Z
LAST-MODIFIED:20250524T175159Z
UID:31758-1748619900-1749831300@stillandmovingcenter.com
SUMMARY:Hawaiiana Talk Story with Aunty Doris.  In-person & Online
DESCRIPTION:In-person & Live OnlineMay 30 – June 13\, 2025 \nFridays\,  3:45 – 4:15 pm HST \nPrice: $15 \nWhether you’re a long-time resident or new to the islands\, please join us for a fun conversation about local customs and history\, as well as interesting anecdotes about people and places.  Learn some useful pidgin English (Hawaiian Creole English) phrases\, too! If there is a local custom that you’d like explained\, let’s talk about it \n			\n			\n				\n				\n				\n				\n			\n				\n				\n				\n				\n				\n				\n				\n				\n				\n				\n				Class Schedule\n			\n			\n				\n				\n				\n				\n			\n				\n				\n				\n				\n				\n				\n				\n				\n				\n				\n				\n\n\n© 2025 Momence\n			\n			\n				\n				\n				\n				\n			\n				\n				\n			\n				\n				\n				\n				\n				\n				\n				\n				\n				\n				\n				\n				\n				\n				\n				\n				\n				\n				\n			\n			\n				\n				\n				\n				\n				\n				\n				\n				\n				\n				Doris Morisaki\n			\n				\n				\n				\n				\n				 \nWith 8\,000 hours of training with Mālia Helelā\, kumu hula (master teacher of hula)\, Doris has earned the position of alaka’i hula (hula leader) under Kumu Mālia. She sings and plays ʻukulele while dancing hula\, inspired by the example set by her teacher.  \nBorn to Japanese parents in Hawaii\, Doris grew up speaking both Japanese and English. A true daughter of the islands\, Doris exudes a vivacious warmth and genuineness for what she loves and believes in. Doris is well-loved for sharing her aloha. Starting from her years working at Hilton Hawaiian Village\, Doris loves to share every good thing her island home has to offer. Whether in a teaching or ambassador capacity\, Doris lends an infectious enthusiasm. \nDoris took her first dance class at the University of Hawai’i\, where she met now-husband Mark in a ballroom dance class. Hula ʻauwana has been a passion of hers since 2013. Steadily absorbing hula with our kumu hula Mālia Helelā has increased Doris’ love of the dance\, and correspondingly\, her desire to learn the Hawaiian language. Doris humbly aspires to embody the sacred grace and beauty of hula\, and to pass on the love of this cultural treasure. She gives liberally of her hula talents and knowledge.  Hula continues to make her a better person as it is imperative to dance with a pure heart and joyful smile. \n			\n			\n				\n				\n				\n				\n			\n				\n				\n			\n				\n				\n				\n				\n				\n				\n				\n				\n				\n				\n				\n				\n				\n			\n				\n				\n				\n				\n				\n				\n				\n				\n				\n				Get the Still & Moving App\n			\n				APPLE APP STORE\n			\n				GOOGLE PLAY STORE
URL:https://stillandmovingcenter.com/ja/event/hawaiiana-talk-story-with-aunty-doris-in-person-and-online/
LOCATION:グローバル\, ハワイ\, United States
CATEGORIES:Dance,Healthy Living,Mindful Fitness,Women,World Culture
ATTACH;FMTTYPE=image/jpeg:https://stillandmovingcenter.com/wp-content/uploads/2025/05/unnamed-1.jpg
END:VEVENT
BEGIN:VEVENT
DTSTART;TZID=Pacific/Honolulu:20250613T200000
DTEND;TZID=Pacific/Honolulu:20250613T220000
DTSTAMP:20260420T044537
CREATED:20250524T191449Z
LAST-MODIFIED:20250605T222410Z
UID:31801-1749844800-1749852000@stillandmovingcenter.com
SUMMARY:For the Love of Salsa - A Salsa Social Dance.  In-person
DESCRIPTION: June 13\, 2025 \n Friday\, 8:00 – 10:00 pm HST \nDonation based\n\nSliding scale $5 – $100 \n			\n				Sign Up Here\n			\n			\n				\n				\n				\n				\n			\n				\n				\n				\n				\n				\n				\n				\n				\n				\n				\n				\n\nDo you LOVE to dance?! We do—and we’re bringing the rhythm back with Salsa Rueda! \nA couple of years ago\, our Still & Moving ‘ohana came together in the parking lot to film our joyful landing page video (check it out from 1:46 onward.) https://youtu.be/o2NRoaBmAAI. We had such a blast that we thought\, “Why don’t we do this more often?!” \nWell… it’s finally time! \nJoin Gordon Walker for a fun\, high-energy Salsa Rueda session—a Cuban-style group dance that’s all about moving in rhythm\, laughing together\, and learning dynamic partner switches as a circle. No partner or experience needed—just a willingness to move and connect! \nBring your joy\, bring your flair\, and come dance with us!\nSounds fun? Invite your friends and sign up here! \n\n\n			\n			\n				\n				\n				\n				\n			\n				\n				\n				\n				\n				\n				\n				\n				\n				\n				\n				\n				\n			\n			\n				\n				\n				\n				\n			\n				\n				\n			\n				\n				\n				\n				\n				\n				\n				\n				\n				\n				\n				\n				\n				\n				\n				\n				\n				\n				\n			\n			\n				\n				\n				\n				\n				\n				\n				\n				\n				\n				Gordon Walker - Rueda 808\n			\n				\n				\n				\n				\n				Beware! Gordon Walker’s enthusiasm for dance is absolutely infectious. So watch out if you don’t want to catch it. And come dance with him if you do! \nBorn in Jamaica\, Gordon can’t recall a time when he wasn’t dancing! His salsa journey began in 2014. Prior to salsa\, Gordon dedicated 12 years to the art of capoeira\, where he honed his sense of movement and physical expression. \nIn 2019\, Gordon found himself in the role of a salsa instructor\, a twist that has allowed him to share his insights and passion for dance. He has taught Salsa Casino and Rueda de Casino at the University of Hawaii at Manoa through the Salsa Dancing at UHM RIO since 2019. Gordon is also a graduate student in Oceanography at the university. \nRueda808 is Gordon’s Cuban salsa performance dance group based in Honolulu. They specialize in Salsa Rueda de Casino. This group takes pride in the cultural diversity\, ethnicities\, and backgrounds of its members\, who include students\, professors\, healthcare professionals\, and other community members. They love dancing in a wheel formation\, getting to know the whole group. Rueda808 dancers are passionate about dancing with aloha a dance form that comes from another island culture!  \n			\n			\n				\n				\n				\n				\n			\n				\n				\n			\n				\n				\n				\n				\n				\n				\n				\n				\n				\n				\n				\n				\n				\n			\n				\n				\n				\n				\n				\n				\n				\n				\n				\n				Get the Still & Moving App\n			\n				APPLE APP STORE\n			\n				GOOGLE PLAY STORE
URL:https://stillandmovingcenter.com/ja/event/for-the-love-of-salsa-a-salsa-social-with-gordon-walker-in-person/
LOCATION:グローバル\, ハワイ\, United States
CATEGORIES:Dance,Healthy Living,Mindful Fitness,Women,World Culture
ATTACH;FMTTYPE=image/jpeg:https://stillandmovingcenter.com/wp-content/uploads/2025/05/unnamed-2.jpg
END:VEVENT
END:VCALENDAR