BEGIN:VCALENDAR
VERSION:2.0
PRODID:-//Still &amp; Moving Center - ECPv6.6.4.2//NONSGML v1.0//EN
CALSCALE:GREGORIAN
METHOD:PUBLISH
X-ORIGINAL-URL:https://stillandmovingcenter.com/ja/
X-WR-CALDESC:Events for Still &amp; Moving Center
REFRESH-INTERVAL;VALUE=DURATION:PT1H
X-Robots-Tag:noindex
X-PUBLISHED-TTL:PT1H
BEGIN:VTIMEZONE
TZID:Pacific/Honolulu
BEGIN:STANDARD
TZOFFSETFROM:-1000
TZOFFSETTO:-1000
TZNAME:HST
DTSTART:20260101T000000
END:STANDARD
END:VTIMEZONE
BEGIN:VEVENT
DTSTART;TZID=Pacific/Honolulu:20260212T153000
DTEND;TZID=Pacific/Honolulu:20260430T160000
DTSTAMP:20260419T091944
CREATED:20251218T220526Z
LAST-MODIFIED:20251219T044919Z
UID:33317-1770910200-1777564800@stillandmovingcenter.com
SUMMARY:Keiki Hula Hālau Spring 12 week series with Mālia Helelā (3-4 year olds)
DESCRIPTION:12 week Spring Series \nFebruary 12 to April 30\, 2026Thursdays\, 3:30 – 4:00 pm \nKeiki performance for May Day\, May 3\, 2026 \nPrice: $230 \n			\n				Sign Up Now\n			\n			\n				\n				\n				\n				\n			\n				\n				\n			\n				\n				\n				\n				\n				\n				\n				\n				\n				\n				\n				\n				\n				\n				\n				\n				\n				\n				Little children seem magnetically drawn to Kumu Mālia. She’s full of laughter and magically engages their attention and imagination. She has produced her own album of Hawaiian songs for children called “Keiki Hula Love”\, many of which the children learn and perform in her series. \nParticipation in this hula hālau (school) is one of the best introductions to Hawaiian language and culture. Children will learn both hula kahiko (ancient hula) and hula ‘auwana (modern hula)\, with the basic steps as well as oli (Hawaiian chants). Some classes may learn to use implements\, such as the ipu (gourd drum). \nYour child will have the opportunity to participate in Still & Moving’s May Day Celebration May 3\, 2026 \nPlease reserve your spot to participate and kindly let your instructor know of any injuries or contradictions. Your enrollment is a commitment to all 12 weeks and no credits are refunded for missed classes. \n			\n			\n				\n				\n				\n				\n			\n				\n				\n			\n				\n				\n				\n				\n				\n				\n				\n				\n				\n				\n				\n				\n				\n				\n				\n				\n				\n				\n			\n			\n				\n				\n				\n				\n				\n				\n				\n				\n				\n				Kuma Hulu Mālia Helelā\n  \n			\n				\n				\n				\n				\n				Kumu Mālia Ko’i’ulaokawaolehua Helelā strives to live a life of grace. Her halau (hula school)\, which meets at Still & Moving Center\, is Na Hula Ola Aloha. Completing her uniki (graduation) under Kumu Hula Puluelo Park in 2002\, she now teaches hula and oli (traditional Hawaiian chanting) to a wide range of students\, from infants and toddlers to kupuna. Mālia studied oli under Kumu Hula Keola Lake. She began her formal training in lomilomi massage as a teenager. She was licensed by the State of Hawaii as a massage therapist in 1998 and as an esthetician in 2002. Her hula practice and lomilomi practice\, she says\, are the same. She continues to look to the beauty and grace of the Hawaiian environment for grounding and inspiration. Mālia has become a respected and beloved cultural practitioner in Hawaii. \n			\n			\n				\n				\n				\n				\n			\n				\n				\n			\n				\n				\n				\n				\n				\n				\n				\n				\n				\n			\n				\n				\n				\n				\n				\n				\n				\n				\n				\n				\n				\n				\n				\n			\n				\n				\n				\n				\n				\n				\n				\n				\n				\n				Get the Still & Moving App\n			\n				APPLE APP STORE\n			\n				GOOGLE PLAY STORE
URL:https://stillandmovingcenter.com/ja/event/keiki-hula-halau-spring-12-week-series-with-malia-helela-3-4-year-olds-in-person/
LOCATION:グローバル\, ハワイ\, United States
CATEGORIES:Dance,Hawaiian Culture,Hula,Kids,World Culture
ATTACH;FMTTYPE=image/jpeg:https://stillandmovingcenter.com/wp-content/uploads/2023/07/Keiki-Hula-fall-series-3-6.jpg
END:VEVENT
BEGIN:VEVENT
DTSTART;TZID=Pacific/Honolulu:20260212T163000
DTEND;TZID=Pacific/Honolulu:20260430T171500
DTSTAMP:20260419T091944
CREATED:20251218T224342Z
LAST-MODIFIED:20251220T032411Z
UID:33321-1770913800-1777569300@stillandmovingcenter.com
SUMMARY:Keiki Hula Hālau Spring 12 week series with Mālia Helelā (4-6 year olds)
DESCRIPTION:12 Weeks Spring Series \nFebruary 12 – April 30\, 2026Thursdays\, 4:30 – 5:15 PM \nKeiki performance for May Day\, May 3\, 2026 \nPrice: $240 \n			\n				Sign Up Now\n			\n			\n				\n				\n				\n				\n			\n				\n				\n			\n				\n				\n				\n				\n				\n				\n				\n				\n				\n				\n				\n				\n				\n				\n				\n				\n				\n				Young children seem magnetically drawn to Kumu Mālia. She’s full of laughter and magically engages their attention and imagination. She has produced her own album of Hawaiian songs for children called “Keiki Hula Love”\, many of which the children learn and perform in her series. \nParticipation in this hula hālau (school) is one of the best introductions to Hawaiian language and culture. Children will learn both hula kahiko (ancient hula) and hula ‘awuana (modern hula)\, with the basic steps as well as oli (Hawaiian chants). Some classes may learn to use implements\, such as the ipu (gourd drum). \nYour child will have the opportunity to participate in Still & Moving’s May Day Celebration May 3\, 2026 \nReserve your spot! \n			\n			\n				\n				\n				\n				\n			\n				\n				\n			\n				\n				\n				\n				\n				\n				\n				\n				\n				\n				\n				\n				\n				\n				\n				\n				\n				\n				\n			\n			\n				\n				\n				\n				\n				\n				\n				\n				\n				\n				Kuma Hulu Mālia Helelā\n			\n				\n				\n				\n				\n				Kumu Mālia Ko’i’ulaokawaolehua Helelā strives to live a life of grace. Her halau (hula school)\, which meets at Still & Moving Center\, is Na Hula Ola Aloha. Completing her uniki (graduation) under Kumu Hula Puluelo Park in 2002\, she now teaches hula and oli (traditional Hawaiian chanting) to a wide range of students\, from infants and toddlers to kupuna. Mālia studied oli under Kumu Hula Keola Lake. She began her formal training in lomilomi massage as a teenager. She was licensed by the State of Hawaii as a massage therapist in 1998 and as an esthetician in 2002. Her hula practice and lomilomi practice\, she says\, are the same. She continues to look to the beauty and grace of the Hawaiian environment for grounding and inspiration. Mālia has become a respected and beloved cultural practitioner in Hawaii. \n			\n			\n				\n				\n				\n				\n			\n				\n				\n			\n				\n				\n				\n				\n				\n				\n				\n				\n				\n			\n				\n				\n				\n				\n				\n				\n				\n				\n				\n				\n				\n				\n				\n			\n				\n				\n				\n				\n				\n				\n				\n				\n				\n				Get the Still & Moving App\n			\n				APPLE APP STORE\n			\n				GOOGLE PLAY STORE
URL:https://stillandmovingcenter.com/ja/event/keiki-hula-halau-spring-12-week-series-with-malia-helela-4-6-year-olds/
LOCATION:グローバル\, ハワイ\, United States
CATEGORIES:Dance,Hawaiian Culture,Hula,Kids,World Culture
ATTACH;FMTTYPE=image/jpeg:https://stillandmovingcenter.com/wp-content/uploads/2025/07/hula-keiki-5-6.jpeg
END:VEVENT
BEGIN:VEVENT
DTSTART;TZID=Pacific/Honolulu:20260422T190000
DTEND;TZID=Pacific/Honolulu:20260610T200000
DTSTAMP:20260419T091944
CREATED:20260409T181723Z
LAST-MODIFIED:20260416T233102Z
UID:34071-1776884400-1781121600@stillandmovingcenter.com
SUMMARY:Contemporary Dance 8-week Committed Performance Series with Elizabeth Lentz-Hill. In-Person
DESCRIPTION:April 22 – June 10\, 2026Wednesday\, 7:00 – 8:00 PM \nPrice: $175 \nFREE for Malama\, Hulali & Annual Members20% off for unlimited members \nExplore creativity\, connection\, and movement in this inspiring 8-week Contemporary Dance Series with Elizabeth Lentz-Hill. Participants will work together toward a culminating performance at the vibrant Pan Pacific Festival\, taking place June 12–14. \nThis series will explore contemporary dance through the Hawaiian concept of kilo\, or deep observation. Through guided movement explorations and collaborative choreography\, dancers will practice noticing\, within their bodies\, each other\, and the surrounding environment\, allowing observation to inspire creativity and shape the dance. \nThe choreography will be created specifically for the people in the room\, highlighting each participant’s unique strengths\, movement qualities\, and range of abilities. Open to all levels\, this series offers a welcoming space to explore contemporary dance\, build confidence\, and experience the joy of creating and performing together in a supportive community. \n			\n				Sign Up Now!\n			\n			\n				\n				\n				\n				\n			\n				\n				\n				\n				\n				\n				\n				\n				\n				\n				\n				\n			\n				\n				\n				\n				\n				\n			\n			\n				\n				\n				\n				\n				\n				\n				\n				\n				\n				\n			\n				\n				\n				\n				\n				\n			\n			\n				\n				\n				\n				\n				\n				\n				\n				\n				\n				\n			\n			\n				\n				\n				\n				\n			\n				\n				\n			\n				\n				\n				\n				\n				\n				\n				\n				\n				\n				\n				\n				\n				\n				\n				\n				\n				\n				\n			\n			\n				\n				\n				\n				\n				\n				\n				\n				\n				\n				Elizabeth Lentz-Hill\n			\n				\n				\n				\n				\n				Elizabeth’s students love the joy\, humor and freedom of expression in her classes. Her classes inspire students to think about dance and life in new\, exciting ways. \nElizabeth grew up in Hawaiʻi and is happy to be home\, dancing in the place she loves\, after more than twenty years of experience performing\, teaching\, choreographing and promoting dance. She has toured France\, Brazil\, Mexico\, and the U.S. with Tennessee Dance Theatre\, Chicago Moving Company\, Lucky Plush Productions\, and Breakbone DanceCo.\, and performed works by Bill T. Jones\, Doug Elkins\, Twyla Tharp\, and Charles Weidman. \nPrior to returning to Hawaiʻi in 2018\, Elizabeth co-founded two dance companies and two regional dance festivals on the continent\, one to promote modern dance in Chicago and one for 7-12th grade dancers and their dance educators in Mississippi. She served as an Associate Professor of Dance at the University of Southern Mississippi (USM)\, where she taught ballet\, modern\, dance education\, anatomy\, choreography\, and dance theory classes. While at USM\, Elizabeth worked to bridge the Dance and Theatre Departments\, including co-creating a full-length devised theatre work with funding from the National Endowment for the Arts and serving as Interim Chair for both departments. She holds a BA in Religion with a concentration in Women’s Studies from Carleton College\, and an MFA in Dance from the University of Washington. \n“Ms. Lentz-Hill has effervescence\, an inner glow\, and an absolute belief in what she is presenting in the studio. There is an indefinable type of energy that leaps from her to her students. These qualities projected not only from Ms. Lentz-Hill but also from the students in the residency as they worked with her. The dancers left her sessions with knowledge of a dynamic energy\, knowing they had something of value to contribute to the community around them so much greater than an ability to be a technically sound dancer. To paraphrase a student in the residency – working with Ms. Lentz-Hill was not just a lesson in technique\, it was a lesson in life! “ – Mid-Pacific Institute \n			\n				Sign Up Now!
URL:https://stillandmovingcenter.com/ja/event/contemporary-dance-8-week-committed-performance-series-with-elizabeth-lentz-hill-in-person/
LOCATION:グローバル\, ハワイ\, United States
CATEGORIES:Dance,Women,World Culture
ATTACH;FMTTYPE=image/jpeg:https://stillandmovingcenter.com/wp-content/uploads/2026/04/DSC9009.jpg
END:VEVENT
END:VCALENDAR