BEGIN:VCALENDAR
VERSION:2.0
PRODID:-//Still &amp; Moving Center - ECPv6.6.4.2//NONSGML v1.0//EN
CALSCALE:GREGORIAN
METHOD:PUBLISH
X-ORIGINAL-URL:https://stillandmovingcenter.com
X-WR-CALDESC:Events for Still &amp; Moving Center
REFRESH-INTERVAL;VALUE=DURATION:PT1H
X-Robots-Tag:noindex
X-PUBLISHED-TTL:PT1H
BEGIN:VTIMEZONE
TZID:Pacific/Honolulu
BEGIN:STANDARD
TZOFFSETFROM:-1000
TZOFFSETTO:-1000
TZNAME:HST
DTSTART:20250101T000000
END:STANDARD
END:VTIMEZONE
BEGIN:VEVENT
DTSTART;VALUE=DATE:20250101
DTEND;VALUE=DATE:20260101
DTSTAMP:20260425T012517
CREATED:20241219T224957Z
LAST-MODIFIED:20250619T211403Z
UID:30773-1735689600-1767225599@stillandmovingcenter.com
SUMMARY:2025 Almanac: Light on the Path
DESCRIPTION:Pick up our 2025 Still & Moving Center Almanac\nOur 2025 Theme: “Light on the Path”.\nNow 50% off\n			\n				Order your almanac here \n			\n				\n				\n				\n				\n				Shed Light on YOUR Path for 2025! \nThis journaling almanac gives you a themed quote as a sunny ray to light each day. You also have daily space for your Hope Goals\, your Gratitude\, your Aha! and your Move-My-Body-Plans. \nKumu Mālia chose our Almanac theme for this year: Light on the Path. This theme signifies good cheer and hope\, no matter how long or difficult our path may seem. Someone\, somewhere\, somehow… is bound to shed light upon our path\, just when we need it the most. In fact\, they already have\, and always will continue to do so.  \nWise and enlightened beings fill the halls of history and bless our lives today. Their bright\, encouraging words fall like revealing breadcrumbs on life’s path\, leading us on our way.   \nMindfully open this almanac to any page\, and a shimmering gem of inspiration will greet you. \nAnd more to the point of this year’s almanac\, WE GENERATE OUR OWN LIGHT! \n“Within you is the light of the world – the only light that can be shed upon the Path.” – Light on the Path \n			\n			\n				\n				\n				\n				\n			\n				\n				\n				\n				\n				\n				\n				\n				\n				\n				\n				\n			\n			\n				\n				\n				\n				\n			\n				\n				\n			\n				\n				\n				\n				\n				\n				\n				\n				\n				\n				\n				\n				\n				\n			\n				\n				\n				\n				\n				\n				\n				\n				\n				\n				Get the Still & Moving App\n			\n				APPLE APP STORE
URL:https://stillandmovingcenter.com/event/2025-almanac-light-on-the-path/
LOCATION:Global\, HI\, United States
CATEGORIES:Aerial Dance / Aerial Silks,Bodywork,Boutique,Coaching,Corporate Wellness,Feldenkrais,Giving Back,Japanese,Lomilomi,Martial Art,Meditation,Mindful Movement Teacher Trainings,Nia,Pilates,Qigong,Retreats,Sacred Sound,Senior,Tai Chi,TRAININGS,up_1
ATTACH;FMTTYPE=image/jpeg:https://stillandmovingcenter.com/wp-content/uploads/2024/12/almanac.jpeg
END:VEVENT
BEGIN:VEVENT
DTSTART;TZID=Pacific/Honolulu:20251213T170000
DTEND;TZID=Pacific/Honolulu:20251213T183000
DTSTAMP:20260425T012517
CREATED:20251024T023855Z
LAST-MODIFIED:20251125T214739Z
UID:32886-1765645200-1765650600@stillandmovingcenter.com
SUMMARY:Merry & Bright: A Winter Celebration with Kumu Mālia Helelā. In-person & Live online
DESCRIPTION:Saturday\, December 13\, 20255:00 – 6:30 pm HSTFREE \nShine into the season with joy and wonder! \nAs the winter solstice draws near\, we come together to honor the light’s return with candles glowing and spirits lifted. \nOur keiki (children) from hula\, aerial dance\, and yoga will take the stage\, sharing their creativity and dedication through performances sure to fill you with warmth and delight. \nTravel the globe with us through movement! Experience the vibrant rhythms of  Argentine Tango\, and the grace of traditional Hawaiian Hula. Plus\, enjoy an inspiring mix of Veil Dance \, Contemporary Dance\, Nia\, and more! \nGather your ‘ohana and celebrate a Merry & Bright at Still & Moving Center!Free admission – reserve your seats early for this beloved annual event.Come early and enjoy cozy treats served by Still & Moving! \nJoin us for a Merry & Bright celebration with your ‘ohana at Still & Moving Center! \nFREE! Pre-registration suggested to reserve seating for this popular event. \n			\n				Sign Up - In person\n			\n				Sign Up - Live online
URL:https://stillandmovingcenter.com/event/merry-bright-a-winter-celebration-with-kumu-malia-helela-in-person-live-online/
LOCATION:Global\, HI\, United States
CATEGORIES:Aerial,Aerial Dance / Aerial Silks,Aerial Pilates,Aerial Yoga,AIReal Yoga TM / Aerial Yoga,Coaching,Feldenkrais,Giving Back,Kids,Lomilomi,Martial Art,Meditation,Meditation & Culture,Mindful Fitness,Nia,Pilates,Qigong,Retreats,Sacred Sound,Senior,Tai Chi,Teacher Trainings,TRAININGS,up_1,Women
ATTACH;FMTTYPE=image/jpeg:https://stillandmovingcenter.com/wp-content/uploads/2025/10/SAB00582-scaled.jpeg
END:VEVENT
END:VCALENDAR